BEGIN:VCALENDAR
VERSION:2.0
PRODID:-//MediLaser - ECPv6.15.20//NONSGML v1.0//EN
CALSCALE:GREGORIAN
METHOD:PUBLISH
X-WR-CALNAME:MediLaser
X-ORIGINAL-URL:https://medilaser.be
X-WR-CALDESC:Evenementen voor MediLaser
REFRESH-INTERVAL;VALUE=DURATION:PT1H
X-Robots-Tag:noindex
X-PUBLISHED-TTL:PT1H
BEGIN:VTIMEZONE
TZID:Europe/Paris
BEGIN:DAYLIGHT
TZOFFSETFROM:+0100
TZOFFSETTO:+0200
TZNAME:CEST
DTSTART:20230326T010000
END:DAYLIGHT
BEGIN:STANDARD
TZOFFSETFROM:+0200
TZOFFSETTO:+0100
TZNAME:CET
DTSTART:20231029T010000
END:STANDARD
BEGIN:DAYLIGHT
TZOFFSETFROM:+0100
TZOFFSETTO:+0200
TZNAME:CEST
DTSTART:20240331T010000
END:DAYLIGHT
BEGIN:STANDARD
TZOFFSETFROM:+0200
TZOFFSETTO:+0100
TZNAME:CET
DTSTART:20241027T010000
END:STANDARD
BEGIN:DAYLIGHT
TZOFFSETFROM:+0100
TZOFFSETTO:+0200
TZNAME:CEST
DTSTART:20250330T010000
END:DAYLIGHT
BEGIN:STANDARD
TZOFFSETFROM:+0200
TZOFFSETTO:+0100
TZNAME:CET
DTSTART:20251026T010000
END:STANDARD
END:VTIMEZONE
BEGIN:VEVENT
DTSTART;TZID=Europe/Paris:20240916T100000
DTEND;TZID=Europe/Paris:20240916T160000
DTSTAMP:20260426T050356
CREATED:20240823T123947Z
LAST-MODIFIED:20240823T123947Z
UID:1384330-1726480800-1726502400@medilaser.be
SUMMARY:Training Fascia Tools
DESCRIPTION:Op maandag 16 september 2024 organiseren wij in ons educatiecentrum een hands-on workshop over Fascia Tools in combinatie met INDIBA voor de Fysiotherapeuten. Van 10:00 tot 16:00 uur ontdek je de nieuwste technieken en toepassingen onder leiding van Kim Wellenberg van FysioWell. De training biedt praktische tips en demonstraties\, met een focus op directe toepasbaarheid in de praktijk. \nDatum: 16 september 2024\nTijd: 10:00 uur\nLocatie: Educatiecentrum\, Blaricum\nKosten: €100 voor 2 deelnemers van dezelfde kliniek (inclusief materialen en lunch) \nAanmelden kan via e-mail naar Floris Veldhuizen (onze adviseur en eigen fysiotherapeut): Floris.veldhuizen@laservision.nl.
URL:https://medilaser.be/event/training-fascia-tools/
CATEGORIES:MediLaser,Training
ATTACH;FMTTYPE=image/png:https://medilaser.be/wp-content/uploads/2024/08/Post-MediLaser-1.png
END:VEVENT
BEGIN:VEVENT
DTSTART;TZID=Europe/Paris:20241010T093000
DTEND;TZID=Europe/Paris:20241010T163000
DTSTAMP:20260426T050356
CREATED:20240424T114945Z
LAST-MODIFIED:20240424T115019Z
UID:1383359-1728552600-1728577800@medilaser.be
SUMMARY:Cursus laserveiligheid\, locatie Blaricum
DESCRIPTION:De cursus wordt op de volgende dagen gehouden in Nieuwleusen of Blaricum: \n\nDinsdag 12 november | Nieuwleusen\nWoensdag 11 december | Blaricum\n\nMinimum aantal deelnemers per cursus is 5. Maximaal aantal deelnemers is 20.\nIn overleg kan de cursus ook bij u op locatie gegeven worden (on-site). Minimaal aantal deelnemers is dan 5. Lunch verzorgt u zelf en u zorgt voor een beamer met scherm/of muur. \nVoor meer informatie klik op de onderstaande button of neem contact op met: Wim Dingemans\, 0529-428 000
URL:https://medilaser.be/event/cursus-laserveiligheid-locatie-blaricum/
CATEGORIES:MediLaser,Training
ATTACH;FMTTYPE=image/png:https://medilaser.be/wp-content/uploads/2024/03/Laserveiligheid.png
END:VEVENT
BEGIN:VEVENT
DTSTART;TZID=Europe/Paris:20241029T093000
DTEND;TZID=Europe/Paris:20241029T130000
DTSTAMP:20260426T050356
CREATED:20240808T125732Z
LAST-MODIFIED:20241009T094658Z
UID:1384277-1730194200-1730206800@medilaser.be
SUMMARY:Training | Lightsheer
DESCRIPTION:Tijdens de workshop Lightsheer wordt de volledige theoretische presentatie doorgenomen\, is er ruimte voor overleg/discussie met andere Lightsheer gebruikers\, wordt er casuïstiek besproken en zal er een behandeling in de praktijk worden uitgevoerd. Na afloop ontvang je een certificaat van deelname. \nWij vinden educatie de sleutel tot succes en daarom presenteren wij een geheel nieuw en uitgebreid trainingsprogramma. \nDe trainingen zullen in kleinere groepen worden gegeven zodat de kwaliteit stijgt en persoonlijke aandacht centraal staat. Maandelijks zullen er theorie- en praktijktrainingen plaatsvinden met onderwerpen zoals: Basis- en gevorderde trainingen voor vasculaire indicaties\, ontharingstechnieken met laser/IPL\, bodycontouring en huidverbetering in de brede zin.
URL:https://medilaser.be/event/training-lightsheer-4/
CATEGORIES:Training
ATTACH;FMTTYPE=image/png:https://medilaser.be/wp-content/uploads/2024/03/Laservison-1-e1711551699693.png
END:VEVENT
BEGIN:VEVENT
DTSTART;TZID=Europe/Paris:20241111T093000
DTEND;TZID=Europe/Paris:20241111T130000
DTSTAMP:20260426T050356
CREATED:20240808T124449Z
LAST-MODIFIED:20241009T094651Z
UID:1384252-1731317400-1731330000@medilaser.be
SUMMARY:Training | Vivace
DESCRIPTION:Tijdens deze workshop Vivace RF Microneedling wordt de volledige theoretische presentatie doorgenomen\, is er ruimte voor overleg/discussie met andere Vivace gebruikers\, wordt er casuïstiek besproken en zal er een behandeling in de praktijk worden uitgevoerd. De lunch is bij deze workshop inbegrepen en na afloop ontvang je een certificaat van deelname. \nWij vinden educatie de sleutel tot succes en daarom presenteren wij een geheel nieuw en uitgebreid trainingsprogramma. \nDe trainingen zullen in kleinere groepen worden gegeven zodat de kwaliteit stijgt en persoonlijke aandacht centraal staat. Maandelijks zullen er theorie- en praktijktrainingen plaatsvinden met onderwerpen zoals: Basis- en gevorderde trainingen voor vasculaire indicaties\, ontharingstechnieken met laser/IPL\, bodycontouring en huidverbetering in de brede zin.
URL:https://medilaser.be/event/training-vivace/
CATEGORIES:Training
ATTACH;FMTTYPE=image/png:https://medilaser.be/wp-content/uploads/2024/03/Laservison-1-e1711551699693.png
END:VEVENT
BEGIN:VEVENT
DTSTART;TZID=Europe/Paris:20241112T093000
DTEND;TZID=Europe/Paris:20241112T163000
DTSTAMP:20260426T050356
CREATED:20240424T115218Z
LAST-MODIFIED:20240424T115314Z
UID:1383363-1731403800-1731429000@medilaser.be
SUMMARY:Cursus laserveiligheid\, locatie Nieuwleusen
DESCRIPTION:De cursus wordt op de volgende dagen gehouden in Nieuwleusen of Blaricum: \n\nWoensdag 11 december | Blaricum\n\nMinimum aantal deelnemers per cursus is 5. Maximaal aantal deelnemers is 20.\nIn overleg kan de cursus ook bij u op locatie gegeven worden (on-site). Minimaal aantal deelnemers is dan 5. Lunch verzorgt u zelf en u zorgt voor een beamer met scherm/of muur. \nVoor meer informatie klik op de onderstaande button of neem contact op met: Wim Dingemans\, 0529-428 000
URL:https://medilaser.be/event/cursus-laserveiligheid-locatie-nieuwleusen-6/
CATEGORIES:MediLaser,Training
ATTACH;FMTTYPE=image/png:https://medilaser.be/wp-content/uploads/2024/03/Laserveiligheid.png
END:VEVENT
BEGIN:VEVENT
DTSTART;TZID=Europe/Paris:20241128T093000
DTEND;TZID=Europe/Paris:20241128T130000
DTSTAMP:20260426T050356
CREATED:20240808T124828Z
LAST-MODIFIED:20241009T094641Z
UID:1384259-1732786200-1732798800@medilaser.be
SUMMARY:Training | Elvii
DESCRIPTION:Informatie over de workshop volgt
URL:https://medilaser.be/event/training-elvii-4/
CATEGORIES:Training
ATTACH;FMTTYPE=image/png:https://medilaser.be/wp-content/uploads/2024/03/Laservison-1-e1711551699693.png
END:VEVENT
BEGIN:VEVENT
DTSTART;TZID=Europe/Paris:20241210T093000
DTEND;TZID=Europe/Paris:20241210T130000
DTSTAMP:20260426T050356
CREATED:20240808T125516Z
LAST-MODIFIED:20241009T094633Z
UID:1384273-1733823000-1733835600@medilaser.be
SUMMARY:Training | Clatuu
DESCRIPTION:Tijdens de workshop Clatuu wordt de volledige theoretische presentatie doorgenomen\, is er ruimte voor overleg/discussie met andere Clatuu gebruikers\,  wordt er casuïstiek besproken en zal er een behandeling in de praktijk worden uitgevoerd. De lunch is bij deze workshop inbegrepen en na afloop ontvang je een certificaat van deelname. \nWij vinden educatie de sleutel tot succes en daarom presenteren wij een geheel nieuw en uitgebreid trainingsprogramma. \nDe trainingen zullen in kleinere groepen worden gegeven zodat de kwaliteit stijgt en persoonlijke aandacht centraal staat. Maandelijks zullen er theorie- en praktijktrainingen plaatsvinden met onderwerpen zoals: Basis- en gevorderde trainingen voor vasculaire indicaties\, ontharingstechnieken met laser/IPL\, bodycontouring en huidverbetering in de brede zin.
URL:https://medilaser.be/event/training-clatuu-3/
CATEGORIES:Training
ATTACH;FMTTYPE=image/png:https://medilaser.be/wp-content/uploads/2024/03/Laservison-1-e1711551699693.png
END:VEVENT
BEGIN:VEVENT
DTSTART;TZID=Europe/Paris:20241211T093000
DTEND;TZID=Europe/Paris:20241211T163000
DTSTAMP:20260426T050356
CREATED:20240424T115519Z
LAST-MODIFIED:20240424T115519Z
UID:1383365-1733909400-1733934600@medilaser.be
SUMMARY:Cursus laserveiligheid\, locatie Blaricum
DESCRIPTION:Minimum aantal deelnemers per cursus is 5. Maximaal aantal deelnemers is 20.\nIn overleg kan de cursus ook bij u op locatie gegeven worden (on-site). Minimaal aantal deelnemers is dan 5. Lunch verzorgt u zelf en u zorgt voor een beamer met scherm/of muur. \nVoor meer informatie klik op de onderstaande button of neem contact op met: Wim Dingemans\, 0529-428 000
URL:https://medilaser.be/event/cursus-laserveiligheid-locatie-blaricum-2/
CATEGORIES:MediLaser,Training
ATTACH;FMTTYPE=image/png:https://medilaser.be/wp-content/uploads/2024/03/Laserveiligheid.png
END:VEVENT
BEGIN:VEVENT
DTSTART;TZID=Europe/Paris:20241212T093000
DTEND;TZID=Europe/Paris:20241212T130000
DTSTAMP:20260426T050356
CREATED:20240808T125128Z
LAST-MODIFIED:20241014T090351Z
UID:1384265-1733995800-1734008400@medilaser.be
SUMMARY:Training | M22 IPL
DESCRIPTION:Tijdens de workshop M22 Lasermodules wordt de volledige theoretische presentatie doorgenomen van de ResurFX\, Multispot Nd:YAG laser en Q-Switched Nd:YAG laser\, is er ruimte voor overleg/discussie met andere M22 gebruikers en wordt er casuïstiek besproken. De lunch is bij deze workshop inbegrepen en na afloop ontvang je een certificaat van deelname. \nWij vinden educatie de sleutel tot succes en daarom presenteren wij een geheel nieuw en uitgebreid trainingsprogramma. \nDe trainingen zullen in kleinere groepen worden gegeven zodat de kwaliteit stijgt en persoonlijke aandacht centraal staat. Maandelijks zullen er theorie- en praktijktrainingen plaatsvinden met onderwerpen zoals: Basis- en gevorderde trainingen voor vasculaire indicaties\, ontharingstechnieken met laser/IPL\, bodycontouring en huidverbetering in de brede zin.
URL:https://medilaser.be/event/training-m22-ipl-4/
CATEGORIES:Training
ATTACH;FMTTYPE=image/png:https://medilaser.be/wp-content/uploads/2024/03/Laservison-1-e1711551699693.png
END:VEVENT
BEGIN:VEVENT
DTSTART;TZID=Europe/Paris:20241212T133000
DTEND;TZID=Europe/Paris:20241212T163000
DTSTAMP:20260426T050356
CREATED:20240808T125358Z
LAST-MODIFIED:20241014T090408Z
UID:1384271-1734010200-1734021000@medilaser.be
SUMMARY:Training | Lasermodules
DESCRIPTION:Informatie over de workshop volgt
URL:https://medilaser.be/event/training-lasermodules-4/
CATEGORIES:Training
ATTACH;FMTTYPE=image/png:https://medilaser.be/wp-content/uploads/2024/03/Laservison-1-e1711551699693.png
END:VEVENT
END:VCALENDAR