BEGIN:VCALENDAR
VERSION:2.0
PRODID:-//MediLaser - ECPv6.15.20//NONSGML v1.0//EN
CALSCALE:GREGORIAN
METHOD:PUBLISH
X-ORIGINAL-URL:https://medilaser.be
X-WR-CALDESC:Evenementen voor MediLaser
REFRESH-INTERVAL;VALUE=DURATION:PT1H
X-Robots-Tag:noindex
X-PUBLISHED-TTL:PT1H
BEGIN:VTIMEZONE
TZID:Europe/Paris
BEGIN:DAYLIGHT
TZOFFSETFROM:+0100
TZOFFSETTO:+0200
TZNAME:CEST
DTSTART:20220327T010000
END:DAYLIGHT
BEGIN:STANDARD
TZOFFSETFROM:+0200
TZOFFSETTO:+0100
TZNAME:CET
DTSTART:20221030T010000
END:STANDARD
BEGIN:DAYLIGHT
TZOFFSETFROM:+0100
TZOFFSETTO:+0200
TZNAME:CEST
DTSTART:20230326T010000
END:DAYLIGHT
BEGIN:STANDARD
TZOFFSETFROM:+0200
TZOFFSETTO:+0100
TZNAME:CET
DTSTART:20231029T010000
END:STANDARD
BEGIN:DAYLIGHT
TZOFFSETFROM:+0100
TZOFFSETTO:+0200
TZNAME:CEST
DTSTART:20240331T010000
END:DAYLIGHT
BEGIN:STANDARD
TZOFFSETFROM:+0200
TZOFFSETTO:+0100
TZNAME:CET
DTSTART:20241027T010000
END:STANDARD
END:VTIMEZONE
BEGIN:VEVENT
DTSTART;VALUE=DATE:20230313
DTEND;VALUE=DATE:20230314
DTSTAMP:20260425T003100
CREATED:20240111T074123Z
LAST-MODIFIED:20240111T074123Z
UID:1380906-1678665600-1678751999@medilaser.be
SUMMARY:OVN congres
DESCRIPTION:Op maandag 13 maart 2023 vindt het congres van de Optometristen Vereniging Nederland (OVN) plaats. Zoals voorgaande jaren vindt het congres plaats in de zalen van congrescentrum 1931 te Den Bosch. Uiteraard is MediLaser weer aanwezig. \nWij verwelkomen u graag op onze stand.
URL:https://medilaser.be/event/ovn-congres/
CATEGORIES:Beurs,MediLaser,Oogheelkunde
ATTACH;FMTTYPE=image/jpeg:https://medilaser.be/wp-content/uploads/2024/01/Midden-RV-II.jpg
END:VEVENT
BEGIN:VEVENT
DTSTART;VALUE=DATE:20230120
DTEND;VALUE=DATE:20230121
DTSTAMP:20260425T003100
CREATED:20240111T073844Z
LAST-MODIFIED:20240111T073944Z
UID:1380902-1674172800-1674259199@medilaser.be
SUMMARY:OFN symposium
DESCRIPTION:Op vrijdag 20 januari 2023 vindt het OFN symposium plaats in het Oogziekenhuis te Rotterdam. \nUiteraard is MediLaser weer aanwezig. Wij verwelkomen u graag op onze stand.
URL:https://medilaser.be/event/ofn-symposium/
CATEGORIES:Beurs,MediLaser,Oogheelkunde
ATTACH;FMTTYPE=image/jpeg:https://medilaser.be/wp-content/uploads/2024/01/Midden-RV-II.jpg
END:VEVENT
END:VCALENDAR