BEGIN:VCALENDAR
VERSION:2.0
PRODID:-//MediLaser - ECPv6.15.20//NONSGML v1.0//EN
CALSCALE:GREGORIAN
METHOD:PUBLISH
X-WR-CALNAME:MediLaser
X-ORIGINAL-URL:https://medilaser.be
X-WR-CALDESC:Evenementen voor MediLaser
REFRESH-INTERVAL;VALUE=DURATION:PT1H
X-Robots-Tag:noindex
X-PUBLISHED-TTL:PT1H
BEGIN:VTIMEZONE
TZID:Europe/Paris
BEGIN:DAYLIGHT
TZOFFSETFROM:+0100
TZOFFSETTO:+0200
TZNAME:CEST
DTSTART:20230326T010000
END:DAYLIGHT
BEGIN:STANDARD
TZOFFSETFROM:+0200
TZOFFSETTO:+0100
TZNAME:CET
DTSTART:20231029T010000
END:STANDARD
BEGIN:DAYLIGHT
TZOFFSETFROM:+0100
TZOFFSETTO:+0200
TZNAME:CEST
DTSTART:20240331T010000
END:DAYLIGHT
BEGIN:STANDARD
TZOFFSETFROM:+0200
TZOFFSETTO:+0100
TZNAME:CET
DTSTART:20241027T010000
END:STANDARD
BEGIN:DAYLIGHT
TZOFFSETFROM:+0100
TZOFFSETTO:+0200
TZNAME:CEST
DTSTART:20250330T010000
END:DAYLIGHT
BEGIN:STANDARD
TZOFFSETFROM:+0200
TZOFFSETTO:+0100
TZNAME:CET
DTSTART:20251026T010000
END:STANDARD
END:VTIMEZONE
BEGIN:VEVENT
DTSTART;TZID=Europe/Paris:20240506T083000
DTEND;TZID=Europe/Paris:20240506T123000
DTSTAMP:20260426T053010
CREATED:20240418T083522Z
LAST-MODIFIED:20240418T083824Z
UID:1383311-1714984200-1714998600@medilaser.be
SUMMARY:Informatieve workshop (halve dag) | M22 Stellar IPL
DESCRIPTION:Tijdens de workshop M22 Stellar IPL wordt de volledige theoretische presentatie doorgenomen\, is er ruimte voor overleg/discussie met andere M22 gebruikers\, wordt er casuïstiek besproken en zal er een behandeling in de praktijk worden uitgevoerd. \nDe volgende trainingen worden op de volgende dagen gehouden in Blaricum: \n\nDonderdag 30 mei\nDinsdag 15 juni\nDonderdag 20 juni\n\nWij vinden educatie de sleutel tot succes en daarom presenteren wij een geheel nieuw en uitgebreid trainingsprogramma. \nDe trainingen zullen in kleinere groepen worden gegeven zodat de kwaliteit stijgt en persoonlijke aandacht centraal staat. Maandelijks zullen er theorie- en praktijktrainingen plaatsvinden met onderwerpen zoals: Basis- en gevorderde trainingen voor vasculaire indicaties\, ontharingstechnieken met laser/IPL\, bodycontouring en huidverbetering in de brede zin.
URL:https://medilaser.be/event/informatieve-workshop-halve-dag-m22-stellar-ipl/
CATEGORIES:Esthetisch,MediLaser,Training
ATTACH;FMTTYPE=image/png:https://medilaser.be/wp-content/uploads/2024/03/Laservison-1-e1711551699693.png
END:VEVENT
END:VCALENDAR